BEGIN:VCALENDAR
VERSION:2.0
PRODID:-//urwahl3000//gruene-unterhaching.de//DE
CALSCALE:GREGORIAN
BEGIN:VEVENT
DTSTART:20190526T080000
DTEND:20190526T180000
LOCATION:Alle Wahllokale in Europa 
DTSTAMP:20190526T080000
SUMMARY:Europawahl
URL;VALUE=URI:https://gruene-unterhaching.de/termin/europawahl/
DESCRIPTION:<p class="styles-module--text--3rPd8">Ihr wollt bei der Europawahl am 26. Mai Eure Stimme abgeben – seid aber leider verhindert oder außer Landes? Kein Problem. Jetzt einfach Briefwahl beantragen und wählen, wann und wo ihr wollt.</p>

<h3 class="intro"><a href="https://www.gruene.de/artikel/briefwahl-jetzt-so-gehts" target="_blank" rel="noopener noreferrer">Briefwahl? So geht's!</a></h3>
 
UID:20190526T080000-20190526T080000-20190526T180000
END:VEVENT
END:VCALENDAR