BEGIN:VCALENDAR
VERSION:2.0
PRODID:-//urwahl3000//gruene-unterhaching.de//DE
CALSCALE:GREGORIAN
BEGIN:VEVENT
DTSTART:20190519T120000
DTEND:20190519T150000
LOCATION:Odeonsplatz München
DTSTAMP:20190519T120000
SUMMARY:Demo: Ein Europa für alle
URL;VALUE=URI:https://gruene-unterhaching.de/termin/demo-ein-europa-fuer-alle/
DESCRIPTION:Zeitgleich in Berlin, Frankfurt, Hamburg, Köln, Leipzig, München und Stuttgart, sowie in vielen anderen europäischen Städten finden Demonstrationen statt gegen Nationalismus und Rassismus, für ein demokratisches, friedliches und solidarisches Europa!
<h3><a href="https://www.ein-europa-fuer-alle.de/" target="_blank" rel="noopener noreferrer">Ein-Europa-für-alle</a></h3>
 
UID:20190519T120000-20190519T120000-20190519T150000
END:VEVENT
END:VCALENDAR