BEGIN:VCALENDAR
VERSION:2.0
PRODID:-//urwahl3000//gruene-unterhaching.de//DE
CALSCALE:GREGORIAN
BEGIN:VEVENT
DTSTART:20180517T193000
DTEND:20180517T193000
LOCATION:Kubiz Unterhaching 
DTSTAMP:20180517T193000
SUMMARY:Bürgerversammlung
URL;VALUE=URI:https://gruene-unterhaching.de/termin/buergerversammlung/
DESCRIPTION:Für das gesamte Gemeindegebiet.

Vor der Versammlung ab 18:30 Uhr Infostände.

 
UID:20180517T193000-20180517T193000-20180517T193000
END:VEVENT
END:VCALENDAR