BEGIN:VCALENDAR
VERSION:2.0
PRODID:-//urwahl3000//gruene-unterhaching.de//DE
CALSCALE:GREGORIAN
BEGIN:VEVENT
DTSTART:20170714T180000
DTEND:20170714T180000
LOCATION:Ortspark Unterhaching
DTSTAMP:20170714T180000
SUMMARY:Bürgerfest – Tag der Vereine
URL;VALUE=URI:https://gruene-unterhaching.de/termin/buergerfest-tag-der-vereine/
DESCRIPTION:Wir treffen uns beim Bürgerfest am Tag der Vereine um 18 Uhr im Bierzelt. Ein grüner Wimpel markiert unseren Tisch.
UID:20170714T180000-20170714T180000-20170714T180000
END:VEVENT
END:VCALENDAR