BEGIN:VCALENDAR
VERSION:2.0
PRODID:-//urwahl3000//gruene-unterhaching.de//DE
CALSCALE:GREGORIAN
BEGIN:VEVENT
DTSTART:20180713T180000
DTEND:20180713T180000
LOCATION:Bürgerfestplatz Unterhaching
DTSTAMP:20180713T180000
SUMMARY:Bürgerfest: Tag der Vereine
URL;VALUE=URI:https://gruene-unterhaching.de/termin/buergerfest-tag-der-vereine-2/
DESCRIPTION:Grüner Tisch ab 18 Uhr. Gäste willkommen!
UID:20180713T180000-20180713T180000-20180713T180000
END:VEVENT
END:VCALENDAR