BEGIN:VCALENDAR
VERSION:2.0
PRODID:-//urwahl3000//gruene-unterhaching.de//DE
CALSCALE:GREGORIAN
BEGIN:VEVENT
DTSTART:20180707T140000
DTEND:20180707T140000
LOCATION:Schwanthaler Straße (beim Maibaum) Pullach
DTSTAMP:20180707T140000
SUMMARY:Boule-Picknick Pullach
URL;VALUE=URI:https://gruene-unterhaching.de/termin/boule-picknick-pullach/
DESCRIPTION:Boule-Picknick der Pullacher Grünen am Samstag, 7. Juli ab 14:00 Uhr.

<a href="https://gruene-ml.de/blog/termin/boule-picknick-2018/" target="_blank" rel="noopener">Mehr Informationen</a>
UID:20180707T140000-20180707T140000-20180707T140000
END:VEVENT
END:VCALENDAR