BEGIN:VCALENDAR
VERSION:2.0
PRODID:-//urwahl3000//gruene-unterhaching.de//DE
CALSCALE:GREGORIAN
BEGIN:VEVENT
DTSTART:20190516T193000
DTEND:20190516T210000
LOCATION:Gaststätte Minoa\, Zwergerstraße 28\, Neubiberg Neubiberg
DTSTAMP:20190516T193000
SUMMARY:Bahn frei für die Verkehrswende in Europa und vor Ort
URL;VALUE=URI:https://gruene-unterhaching.de/termin/bahn-frei-fuer-die-verkehrswende-in-europa-und-vor-ort/
DESCRIPTION:<div>Der Verkehr ist das große Sorgenkind für Pendlerinnen und Pendler – aber auch für alle Klimaschützerinnen und Klimaschützer. Nicht nur die Staus auf den Straßen und die Verspätungsminuten der Bahn wachsen immer weiter. Auch der CO²-Ausstoß des Verkehrssektors wächst, obwohl er bis 2050 auf Null sinken müsste, um die Klimaziele von Paris zu erreichen.</div>
<div>
<div>Was ist zu tun? Es braucht eine andere Verkehrspolitik sowohl in Europa als auch vor Ort. Landtagsabgeordneter <a href="https://markus-buechler.de/" target="_blank" rel="noopener noreferrer">Dr. Markus Büchler</a> zeigt Grüne Vorschläge. Diskutieren Sie mit!</div>
</div>
UID:20190516T193000-20190516T193000-20190516T210000
END:VEVENT
END:VCALENDAR