BEGIN:VCALENDAR
VERSION:2.0
PRODID:-//urwahl3000//gruene-unterhaching.de//DE
CALSCALE:GREGORIAN
BEGIN:VEVENT
DTSTART:20180706T120000
DTEND:20180706T120000
LOCATION: 
DTSTAMP:20180706T120000
SUMMARY:Anmeldeschluss Sternfahrt
URL;VALUE=URI:https://gruene-unterhaching.de/termin/anmeldeschluss-stadtradeln-sternfahrt/
DESCRIPTION:<div class="page" title="Page 1">
<div class="layoutArea">
<div class="column">

Wer bei der Sternfahrt zum Abschluss des Stadtradelns mitfahren möchte: bitte unbedingt bis spätestens 06.07.2018 unter unterhaching@stadtradeln.de oder per Telefon unter 089/66551-230 anmelden!

</div>
</div>
</div>
UID:20180706T120000-20180706T120000-20180706T120000
END:VEVENT
END:VCALENDAR