BEGIN:VCALENDAR
VERSION:2.0
PRODID:-//urwahl3000//gruene-unterhaching.de//DE
CALSCALE:GREGORIAN
BEGIN:VEVENT
DTSTART:20190518T163000
DTEND:20190518T183000
LOCATION:Marktplatz am Köglweg\, gegenüber Rathaus Taufkirchen
DTSTAMP:20190518T163000
SUMMARY:2. Green Dinner
URL;VALUE=URI:https://gruene-unterhaching.de/termin/2-green-dinner/
DESCRIPTION:mehr <a href="https://gruene-ml.de/blog/termin/2-green-diner/" target="_blank" rel="noopener noreferrer">Informationen</a>
UID:20190518T163000-20190518T163000-20190518T183000
END:VEVENT
END:VCALENDAR